0.15000000000000
0.00000000000000
0.00000000000000
-0.15000000000000
617250.07499999995343
4512749.92499999981374
