0.15000000000000
0.00000000000000
0.00000000000000
-0.15000000000000
612000.07499999995343
4509749.92499999981374
