0.15000000000000
0.00000000000000
0.00000000000000
-0.15000000000000
610500.07499999995343
4497749.92499999981374
