0.15000000000000
0.00000000000000
0.00000000000000
-0.15000000000000
596250.07499999995343
4688249.92499999981374
