0.15000000000000
0.00000000000000
0.00000000000000
-0.15000000000000
595500.07499999995343
4691999.92499999981374
