0.15000000000000
0.00000000000000
0.00000000000000
-0.15000000000000
594000.07499999995343
4686749.92499999981374
