0.15000000000000
0.00000000000000
0.00000000000000
-0.15000000000000
591750.07499999995343
4661249.92499999981374
