0.150000
0.000000
0.000000
-0.150000
589500.075000
4601249.925000
