0.150000
0.000000
0.000000
-0.150000
585000.075000
4625249.925000
