0.150000
0.000000
0.000000
-0.150000
582000.075000
4632749.925000
