0.150000
0.000000
0.000000
-0.150000
596250.075000
4551749.925000
