0.150000
0.000000
0.000000
-0.150000
595500.075000
4556249.925000
