0.150000
0.000000
0.000000
-0.150000
595500.075000
4550249.925000
