0.150000
0.000000
0.000000
-0.150000
594000.075000
4558499.925000
