0.150000
0.000000
0.000000
-0.150000
593250.075000
4565999.925000
