0.150000
0.000000
0.000000
-0.150000
591750.075000
4571999.925000
