0.150000
0.000000
0.000000
-0.150000
590250.075000
4583249.925000
