0.150000
0.000000
0.000000
-0.150000
587250.075000
4571249.925000
