0.150000
0.000000
0.000000
-0.150000
584250.075000
4589249.925000
