0.150000
0.000000
0.000000
-0.150000
583500.075000
4586999.925000
