0.150000
0.000000
0.000000
-0.150000
583500.075000
4581749.925000
