0.150000
0.000000
0.000000
-0.150000
582750.075000
4585499.925000
