0.150000
0.000000
0.000000
-0.150000
581250.075000
4594499.925000
