0.150000
0.000000
0.000000
-0.150000
580500.075000
4586249.925000
