0.150000
0.000000
0.000000
-0.150000
579750.075000
4590749.925000
