0.15000000000000
0.00000000000000
0.00000000000000
-0.15000000000000
585750.07499999995343
4496249.92499999981374
