0.15000000000000
0.00000000000000
0.00000000000000
-0.15000000000000
570750.07499999995343
4492499.92499999981374
