0.150000
0.000000
0.000000
-0.150000
592500.075000
4534499.925000
