0.150000
0.000000
0.000000
-0.150000
591000.075000
4538249.925000
