0.150000
0.000000
0.000000
-0.150000
588750.075000
4535249.925000
