0.150000
0.000000
0.000000
-0.150000
588000.075000
4529999.925000
