0.15000000000000
0.00000000000000
0.00000000000000
-0.15000000000000
579750.07499999995343
4522499.92499999981374
