0.15000000000000
0.00000000000000
0.00000000000000
-0.15000000000000
578250.07499999995343
4511999.92499999981374
