0.15000000000000
0.00000000000000
0.00000000000000
-0.15000000000000
586500.07499999995343
4470749.92499999981374
