0.150000
0.000000
0.000000
-0.150000
586500.075000
4462499.925000
