0.15000000000000
0.00000000000000
0.00000000000000
-0.15000000000000
582750.07499999995343
4463249.92499999981374
