0.15000000000000
0.00000000000000
0.00000000000000
-0.15000000000000
581250.07499999995343
4466249.92499999981374
