0.15000000000000
0.00000000000000
0.00000000000000
-0.15000000000000
577500.07499999995343
4469249.92499999981374
