0.15000000000000
0.00000000000000
0.00000000000000
-0.15000000000000
576000.07499999995343
4438499.92499999981374
