0.15000000000000
0.00000000000000
0.00000000000000
-0.15000000000000
575250.07499999995343
4480499.92499999981374
