0.15000000000000
0.00000000000000
0.00000000000000
-0.15000000000000
573000.07499999995343
4479749.92499999981374
