0.15000000000000
0.00000000000000
0.00000000000000
-0.15000000000000
570000.07499999995343
4478249.92499999981374
