0.15000000000000
0.00000000000000
0.00000000000000
-0.15000000000000
567000.07499999995343
4475999.92499999981374
