0.15000000000000
0.00000000000000
0.00000000000000
-0.15000000000000
564750.07499999995343
4495499.92499999981374
