0.15000000000000
0.00000000000000
0.00000000000000
-0.15000000000000
563250.07499999995343
4493999.92499999981374
