0.15000000000000
0.00000000000000
0.00000000000000
-0.15000000000000
561750.07499999995343
4477499.92499999981374
