0.15000000000000
0.00000000000000
0.00000000000000
-0.15000000000000
561000.07499999995343
4478999.92499999981374
