0.15000000000000
0.00000000000000
0.00000000000000
-0.15000000000000
558750.07499999995343
4488749.92499999981374
