0.15000000000000
0.00000000000000
0.00000000000000
-0.15000000000000
558000.07499999995343
4490249.92499999981374
