0.15000000000000
0.00000000000000
0.00000000000000
-0.15000000000000
556500.07499999995343
4487249.92499999981374
